BEGIN:VCALENDAR
VERSION:2.0
PRODID:-//Mercy Gate Ministries - ECPv6.15.17.1//NONSGML v1.0//EN
CALSCALE:GREGORIAN
METHOD:PUBLISH
X-ORIGINAL-URL:https://mercygateministries.com
X-WR-CALDESC:Events for Mercy Gate Ministries
REFRESH-INTERVAL;VALUE=DURATION:PT1H
X-Robots-Tag:noindex
X-PUBLISHED-TTL:PT1H
BEGIN:VTIMEZONE
TZID:America/Chicago
BEGIN:DAYLIGHT
TZOFFSETFROM:-0600
TZOFFSETTO:-0500
TZNAME:CDT
DTSTART:20250309T080000
END:DAYLIGHT
BEGIN:STANDARD
TZOFFSETFROM:-0500
TZOFFSETTO:-0600
TZNAME:CST
DTSTART:20251102T070000
END:STANDARD
BEGIN:DAYLIGHT
TZOFFSETFROM:-0600
TZOFFSETTO:-0500
TZNAME:CDT
DTSTART:20260308T080000
END:DAYLIGHT
BEGIN:STANDARD
TZOFFSETFROM:-0500
TZOFFSETTO:-0600
TZNAME:CST
DTSTART:20261101T070000
END:STANDARD
BEGIN:DAYLIGHT
TZOFFSETFROM:-0600
TZOFFSETTO:-0500
TZNAME:CDT
DTSTART:20270314T080000
END:DAYLIGHT
BEGIN:STANDARD
TZOFFSETFROM:-0500
TZOFFSETTO:-0600
TZNAME:CST
DTSTART:20271107T070000
END:STANDARD
END:VTIMEZONE
BEGIN:VEVENT
DTSTART;TZID=America/Chicago:20260430T180000
DTEND;TZID=America/Chicago:20260430T210000
DTSTAMP:20260422T135945
CREATED:20260304T205924Z
LAST-MODIFIED:20260422T134419Z
UID:10000033-1777572000-1777582800@mercygateministries.com
SUMMARY:Journey to Freedom Fundraiser
DESCRIPTION:Special raffle: Dallas Cowboys Game Day Experience: 4 Front-Row tickets on the 47 yard line worth $13\,200. Raffle tickets are only $200 ea. Get yours now.\n \n\nThe Journey to Freedom Fundraiser is now sold out. Thanks to everyone who is supporting this great cause! \n\nYou are formally invited to attend Mercy Gate Ministries’ Journey to Freedom Fundraiser. \nJoin us on Thursday\, April 30\, 2026 from 6:00-9:00pm. \nNo county in Texas is immune to sex trafficking and sexual exploitation. It is a multi-billion-dollar industry and it happens on the streets of Houston and it happens on ranches and rural roads in central Texas. Help us win the war against sexual exploitation\, abuse & trafficking. \nClick here to view sponsorships. Purchase tickets below\, and share using the flyer at the bottom. \n \nThank You to Our Sponsors:
URL:https://mercygateministries.com/event/journey-to-freedom-fundraiser-2/
LOCATION:Moon Shadow Haven\, 118 Creekridge Trail\, Mountain Home\, TX\, 78058\, United States
CATEGORIES:Fundraiser
ATTACH;FMTTYPE=image/jpeg:https://mercygateministries.com/wp-content/uploads/jtf_event.jpg
ORGANIZER;CN="Mercy Gate":MAILTO:info@mercygateministries.com
END:VEVENT
END:VCALENDAR